Workbook

Sheet Ethnicity
A1: Access to Primary Care by Prioritised Ethnicity (October 2023)
A2: This report shows the number and estimated percentage of the New Zealand population (based on Stats NZ population projections) who are enrolled in a PHO by prioritised ethnicity.
B4: Total | E4: Māori | H4: Pacific | K4: Other
A5: District of Domicile | B5: Total Enrolled | C5: Total Population | D5: % | E5: Total Enrolled | F5: Total Population | G5: % | H5: Total Enrolled | I5: Total Population | J5: % | K5: Total Enrolled | L5: Total Population | M5: %
A6: Auckland | B6: 473187 | C6: 471980 | D6: =IF(B6=0,"",B6/C6) -> 1.0025573 | E6: 35259 | F6: 40115 | G6: =IF(E6=0,"",E6/F6) -> 0.87894802 | H6: 55423 | I6: 54620 | J6: =IF(H6=0,"",H6/I6) -> 1.0147016 | K6: 382505 | L6: 377245 | M6: =IF(K6=0,"",K6/L6) -> 1.0139432
A7: Bay of Plenty | B7: 259213 | C7: 279330 | D7: =IF(B7=0,"",B7/C7) -> 0.92798124 | E7: 62434 | F7: 73965 | G7: =IF(E7=0,"",E7/F7) -> 0.84410194 | H7: 4912 | I7: 6510 | J7: =IF(H7=0,"",H7/I7) -> 0.75453149 | K7: 191867 | L7: 198855 | M7: =IF(K7=0,"",K7/L7) -> 0.96485882
A8: Canterbury | B8: 584360 | C8: 597385 | D8: =IF(B8=0,"",B8/C8) -> 0.97819664 | E8: 53992 | F8: 62405 | G8: =IF(E8=0,"",E8/F8) -> 0.86518708 | H8: 17580 | I8: 19605 | J8: =IF(H8=0,"",H8/I8) -> 0.89671002 | K8: 512788 | L8: 515375 | M8: =IF(K8=0,"",K8/L8) -> 0.99498035
A9: Capital and Coast | B9: 305784 | C9: 322150 | D9: =IF(B9=0,"",B9/C9) -> 0.94919758 | E9: 34263 | F9: 40760 | G9: =IF(E9=0,"",E9/F9) -> 0.84060353 | H9: 22674 | I9: 23905 | J9: =IF(H9=0,"",H9/I9) -> 0.9485045 | K9: 248847 | L9: 257485 | M9: =IF(K9=0,"",K9/L9) -> 0.96645241
A10: Counties Manukau | B10: 589977 | C10: 610695 | D10: =IF(B10=0,"",B10/C10) -> 0.96607472 | E10: 81357 | F10: 102175 | G10: =IF(E10=0,"",E10/F10) -> 0.79625153 | H10: 145784 | I10: 142775 | J10: =IF(H10=0,"",H10/I10) -> 1.0210751 | K10: 362836 | L10: 365745 | M10: =IF(K10=0,"",K10/L10) -> 0.99204637
A11: Hawke's Bay | B11: 169335 | C11: 183360 | D11: =IF(B11=0,"",B11/C11) -> 0.92351113 | E11: 44275 | F11: 53075 | G11: =IF(E11=0,"",E11/F11) -> 0.83419689 | H11: 6332 | I11: 8870 | J11: =IF(H11=0,"",H11/I11) -> 0.71386697 | K11: 118728 | L11: 121415 | M11: =IF(K11=0,"",K11/L11) -> 0.97786929
A12: Hutt Valley | B12: 152896 | C12: 161650 | D12: =IF(B12=0,"",B12/C12) -> 0.94584596 | E12: 25480 | F12: 30870 | G12: =IF(E12=0,"",E12/F12) -> 0.82539683 | H12: 12181 | I12: 13605 | J12: =IF(H12=0,"",H12/I12) -> 0.8953326 | K12: 115235 | L12: 117175 | M12: =IF(K12=0,"",K12/L12) -> 0.98344357
A13: Lakes | B13: 110098 | C13: 118790 | D13: =IF(B13=0,"",B13/C13) -> 0.92682886 | E13: 39708 | F13: 46340 | G13: =IF(E13=0,"",E13/F13) -> 0.8568839 | H13: 2929 | I13: 3295 | J13: =IF(H13=0,"",H13/I13) -> 0.88892261 | K13: 67461 | L13: 69155 | M13: =IF(K13=0,"",K13/L13) -> 0.9755043
A14: MidCentral | B14: 177469 | C14: 191345 | D14: =IF(B14=0,"",B14/C14) -> 0.92748177 | E14: 34024 | F14: 42605 | G14: =IF(E14=0,"",E14/F14) -> 0.79859171 | H14: 5824 | I14: 7235 | J14: =IF(H14=0,"",H14/I14) -> 0.80497581 | K14: 137621 | L14: 141505 | M14: =IF(K14=0,"",K14/L14) -> 0.97255221
A15: Nelson Marlborough | B15: 156414 | C15: 166120 | D15: =IF(B15=0,"",B15/C15) -> 0.94157236 | E15: 16027 | F15: 19390 | G15: =IF(E15=0,"",E15/F15) -> 0.82656008 | H15: 2853 | I15: 3760 | J15: =IF(H15=0,"",H15/I15) -> 0.7587766 | K15: 137534 | L15: 142970 | M15: =IF(K15=0,"",K15/L15) -> 0.96197804
A16: Northland | B16: 192324 | C16: 204675 | D16: =IF(B16=0,"",B16/C16) -> 0.93965555 | E16: 66931 | F16: 74905 | G16: =IF(E16=0,"",E16/F16) -> 0.89354516 | H16: 4098 | I16: 6115 | J16: =IF(H16=0,"",H16/I16) -> 0.67015536 | K16: 121295 | L16: 123655 | M16: =IF(K16=0,"",K16/L16) -> 0.98091464
A17: South Canterbury | B17: 61070 | C17: 62507.5 | D17: =IF(B17=0,"",B17/C17) -> 0.97700276 | E17: 5094 | F17: 6240 | G17: =IF(E17=0,"",E17/F17) -> 0.81634615 | H17: 1543 | I17: 1247.5 | J17: =IF(H17=0,"",H17/I17) -> 1.2368737 | K17: 54433 | L17: 55020 | M17: =IF(K17=0,"",K17/L17) -> 0.98933115
... A25: Whanganui | B25: 65976 | C25: 69990 | D25: =IF(B25=0,"",B25/C25) -> 0.94264895 | E25: 17524 | F25: 20635 | G25: =IF(E25=0,"",E25/F25) -> 0.84923673 | H25: 1841 | I25: 2435 | J25: =IF(H25=0,"",H25/I25) -> 0.75605749 | K25: 46611 | L25: 46920 | M25: =IF(K25=0,"",K25/L25) -> 0.99341432
A26: National | B26: =E26+H26+K26 -> 4943113 | C26: =F26+I26+L26 -> 5151947.5 | D26: =IF(B26=0,"",B26/C26) -> 0.95946494 | E26: =SUM(E6:E25) -> 758526 | F26: =SUM(F6:F25) -> 910205 | G26: =IF(E26=0,"",E26/F26) -> 0.83335732 | H26: =SUM(H6:H25) -> 357640 | I26: =SUM(I6:I25) -> 375497.5 | J26: =IF(H26=0,"",H26/I26) -> 0.95244309 | K26: =SUM(K6:K25) -> 3826947 | L26: =SUM(L6:L25) -> 3866245 | M26: =IF(K26=0,"",K26/L26) -> 0.98983562
A28: Note: The estimated percentage of those who are enrolled in a PHO may exceed 100% as data is sourced from two different places (Ministry of Health & Stats NZ).
A29: Population is based on the December 2022 update of the projections provided by Stats NZ.

Sheet Gender
A1: =SUBSTITUTE(Ethnicity!A1,"Ethnicity","Gender") -> Access to Primary Care by Prioritised Gender (October 2023)
A2: This report shows the number and estimated percentage of the New Zealand population (based on Stats NZ population projections) who are enrolled in a PHO by gender.
B4: Total | E4: Female | H4: Male
A5: District of Domicile | B5: Total Enrolled | C5: Total Population | D5: % | E5: Total Enrolled | F5: Total Population | G5: % | H5: Total Enrolled | I5: Total Population | J5: %
A6: Auckland | B6: 473187 | C6: 471980 | D6: =IF(B6=0,"",B6/C6) -> 1.0025573 | E6: 242753 | F6: 237180 | G6: =IF(E6=0,"",E6/F6) -> 1.0234969 | H6: 230434 | I6: 234800 | J6: =IF(H6=0,"",H6/I6) -> 0.98140545
A7: Bay of Plenty | B7: 259213 | C7: 279330 | D7: =IF(B7=0,"",B7/C7) -> 0.92798124 | E7: 134637 | F7: 142215 | G7: =IF(E7=0,"",E7/F7) -> 0.94671448 | H7: 124576 | I7: 137115 | J7: =IF(H7=0,"",H7/I7) -> 0.90855122
A8: Canterbury | B8: 584360 | C8: 597385 | D8: =IF(B8=0,"",B8/C8) -> 0.97819664 | E8: 299305 | F8: 298435 | G8: =IF(E8=0,"",E8/F8) -> 1.0029152 | H8: 285055 | I8: 298950 | J8: =IF(H8=0,"",H8/I8) -> 0.95352066
A9: Capital and Coast | B9: 305784 | C9: 322150 | D9: =IF(B9=0,"",B9/C9) -> 0.94919758 | E9: 159787 | F9: 166415 | G9: =IF(E9=0,"",E9/F9) -> 0.96017186 | H9: 145997 | I9: 155735 | J9: =IF(H9=0,"",H9/I9) -> 0.9374707
A10: Counties Manukau | B10: 589977 | C10: 610695 | D10: =IF(B10=0,"",B10/C10) -> 0.96607472 | E10: 299847 | F10: 305990 | G10: =IF(E10=0,"",E10/F10) -> 0.97992418 | H10: 290130 | I10: 304705 | J10: =IF(H10=0,"",H10/I10) -> 0.95216685
A11: Hawke's Bay | B11: 169335 | C11: 183360 | D11: =IF(B11=0,"",B11/C11) -> 0.92351113 | E11: 88574 | F11: 92120 | G11: =IF(E11=0,"",E11/F11) -> 0.96150673 | H11: 80761 | I11: 91240 | J11: =IF(H11=0,"",H11/I11) -> 0.88514906
A12: Hutt Valley | B12: 152896 | C12: 161650 | D12: =IF(B12=0,"",B12/C12) -> 0.94584596 | E12: 78240 | F12: 81155 | G12: =IF(E12=0,"",E12/F12) -> 0.96408108 | H12: 74656 | I12: 80495 | J12: =IF(H12=0,"",H12/I12) -> 0.92746133
A13: Lakes | B13: 110098 | C13: 118790 | D13: =IF(B13=0,"",B13/C13) -> 0.92682886 | E13: 56908 | F13: 59655 | G13: =IF(E13=0,"",E13/F13) -> 0.95395189 | H13: 53190 | I13: 59135 | J13: =IF(H13=0,"",H13/I13) -> 0.89946732
A14: MidCentral | B14: 177469 | C14: 191345 | D14: =IF(B14=0,"",B14/C14) -> 0.92748177 | E14: 92741 | F14: 97750 | G14: =IF(E14=0,"",E14/F14) -> 0.94875703 | H14: 84728 | I14: 93595 | J14: =IF(H14=0,"",H14/I14) -> 0.90526203
A15: Nelson Marlborough | B15: 156414 | C15: 166120 | D15: =IF(B15=0,"",B15/C15) -> 0.94157236 | E15: 80138 | F15: 82465 | G15: =IF(E15=0,"",E15/F15) -> 0.97178197 | H15: 76276 | I15: 83655 | J15: =IF(H15=0,"",H15/I15) -> 0.91179248
A16: Northland | B16: 192324 | C16: 204675 | D16: =IF(B16=0,"",B16/C16) -> 0.93965555 | E16: 98449 | F16: 102810 | G16: =IF(E16=0,"",E16/F16) -> 0.95758195 | H16: 93875 | I16: 101865 | J16: =IF(H16=0,"",H16/I16) -> 0.92156285
A17: South Canterbury | B17: 61070 | C17: 62507.5 | D17: =IF(B17=0,"",B17/C17) -> 0.97700276 | E17: 30735 | F17: 30850 | G17: =IF(E17=0,"",E17/F17) -> 0.99627229 | H17: 30335 | I17: 31657.5 | J17: =IF(H17=0,"",H17/I17) -> 0.95822475
... A25: Whanganui | B25: 65976 | C25: 69990 | D25: =IF(B25=0,"",B25/C25) -> 0.94264895 | E25: 34055 | F25: 35615 | G25: =IF(E25=0,"",E25/F25) -> 0.95619823 | H25: 31921 | I25: 34375 | J25: =IF(H25=0,"",H25/I25) -> 0.92861091
A26: National | B26: 4943113 | C26: 5151947.5 | D26: =IF(B26=0,"",B26/C26) -> 0.95946494 | E26: =SUM(E6:E25) -> 2541255 | F26: =SUM(F6:F25) -> 2595175 | G26: =IF(E26=0,"",E26/F26) -> 0.97922298 | H26: =SUM(H6:H25) -> 2401858 | I26: =SUM(I6:I25) -> 2556772.5 | J26: =IF(H26=0,"",H26/I26) -> 0.93941014
A28: Note: The estimated percentage of those who are enrolled in a PHO may exceed 100% as data is sourced from two different places (Ministry of Health & Stats NZ).
A29: Population is based on the December 2022 update of the projections provided by Stats NZ.

Sheet Age
A1: =SUBSTITUTE(Ethnicity!A1,"Ethnicity","Age Group") -> Access to Primary Care by Prioritised Age Group (October 2023)
A2: This report shows the number and estimated percentage of the New Zealand population (based on Stats NZ population projections) who are enrolled in a PHO by age group.
B4: Total | E4: 0 - 4 Year Olds | H4: 5 - 14 Year Olds | K4: 15 - 24 Year Olds | N4: 25 - 44 Year Olds | Q4: 45 - 64 Year Olds | T4: 65+ Year Olds
A5: District of Domicile | B5: Total Enrolled | C5: Total Population | D5: % | E5: Total Enrolled | F5: Total Population | G5: % | H5: Total Enrolled | I5: Total Population | J5: % | K5: Total Enrolled | L5: Total Population | M5: % | N5: Total Enrolled | O5: Total Population | P5: % | Q5: Total Enrolled | R5: Total Population | S5: % | T5: Total Enrolled | U5: Total Population | V5: %
A6: Auckland | B6: 473187 | C6: 471980 | D6: =IF(B6=0,"",B6/C6) -> 1.0025573 | E6: 23971 | F6: 22930 | G6: =IF(E6=0,"",E6/F6) -> 1.045399 | H6: 53290 | I6: 51305 | J6: =IF(H6=0,"",H6/I6) -> 1.0386902 | K6: 58101 | L6: 59325 | M6: =IF(K6=0,"",K6/L6) -> 0.97936789 | N6: 155914 | O6: 158275 | P6: =IF(N6=0,"",N6/O6) -> 0.98508293 | Q6: 114673 | R6: 113890 | S6: =IF(Q6=0,"",Q6/R6) -> 1.0068751 | T6: 67238 | U6: 66255 | V6: =IF(T6=0,"",T6/U6) -> 1.0148366
A7: Bay of Plenty | B7: 259213 | C7: 279330 | D7: =IF(B7=0,"",B7/C7) -> 0.92798124 | E7: 16067 | F7: 16660 | G7: =IF(E7=0,"",E7/F7) -> 0.96440576 | H7: 34926 | I7: 36325 | J7: =IF(H7=0,"",H7/I7) -> 0.96148658 | K7: 27880 | L7: 30225 | M7: =IF(K7=0,"",K7/L7) -> 0.92241522 | N7: 62218 | O7: 69520 | P7: =IF(N7=0,"",N7/O7) -> 0.89496548 | Q7: 63473 | R7: 68255 | S7: =IF(Q7=0,"",Q7/R7) -> 0.9299392 | T7: 54649 | U7: 58345 | V7: =IF(T7=0,"",T7/U7) -> 0.93665267
A8: Canterbury | B8: 584360 | C8: 597385 | D8: =IF(B8=0,"",B8/C8) -> 0.97819664 | E8: 33473 | F8: 32760 | G8: =IF(E8=0,"",E8/F8) -> 1.0217643 | H8: 70712 | I8: 69500 | J8: =IF(H8=0,"",H8/I8) -> 1.0174388 | K8: 72215 | L8: 78225 | M8: =IF(K8=0,"",K8/L8) -> 0.92317034 | N8: 159556 | O8: 167685 | P8: =IF(N8=0,"",N8/O8) -> 0.9515222 | Q8: 146394 | R8: 149215 | S8: =IF(Q8=0,"",Q8/R8) -> 0.98109439 | T8: 102010 | U8: 100000 | V8: =IF(T8=0,"",T8/U8) -> 1.0201
A9: Capital and Coast | B9: 305784 | C9: 322150 | D9: =IF(B9=0,"",B9/C9) -> 0.94919758 | E9: 14655 | F9: 15125 | G9: =IF(E9=0,"",E9/F9) -> 0.96892562 | H9: 35436 | I9: 34490 | J9: =IF(H9=0,"",H9/I9) -> 1.0274282 | K9: 42071 | L9: 52205 | M9: =IF(K9=0,"",K9/L9) -> 0.80588066 | N9: 90517 | O9: 95425 | P9: =IF(N9=0,"",N9/O9) -> 0.94856694 | Q9: 77218 | R9: 78645 | S9: =IF(Q9=0,"",Q9/R9) -> 0.98185517 | T9: 45887 | U9: 46260 | V9: =IF(T9=0,"",T9/U9) -> 0.99193688
A10: Counties Manukau | B10: 589977 | C10: 610695 | D10: =IF(B10=0,"",B10/C10) -> 0.96607472 | E10: 41991 | F10: 42165 | G10: =IF(E10=0,"",E10/F10) -> 0.99587335 | H10: 87371 | I10: 91425 | J10: =IF(H10=0,"",H10/I10) -> 0.95565764 | K10: 76374 | L10: 82315 | M10: =IF(K10=0,"",K10/L10) -> 0.92782603 | N10: 176134 | O10: 178255 | P10: =IF(N10=0,"",N10/O10) -> 0.98810132 | Q10: 133961 | R10: 140500 | S10: =IF(Q10=0,"",Q10/R10) -> 0.95345907 | T10: 74146 | U10: 76035 | V10: =IF(T10=0,"",T10/U10) -> 0.97515618
A11: Hawke's Bay | B11: 169335 | C11: 183360 | D11: =IF(B11=0,"",B11/C11) -> 0.92351113 | E11: 10020 | F11: 10840 | G11: =IF(E11=0,"",E11/F11) -> 0.92435424 | H11: 23332 | I11: 24900 | J11: =IF(H11=0,"",H11/I11) -> 0.93702811 | K11: 19301 | L11: 21125 | M11: =IF(K11=0,"",K11/L11) -> 0.9136568 | N11: 38816 | O11: 44320 | P11: =IF(N11=0,"",N11/O11) -> 0.87581227 | Q11: 43351 | R11: 46460 | S11: =IF(Q11=0,"",Q11/R11) -> 0.93308222 | T11: 34515 | U11: 35715 | V11: =IF(T11=0,"",T11/U11) -> 0.96640067
A12: Hutt Valley | B12: 152896 | C12: 161650 | D12: =IF(B12=0,"",B12/C12) -> 0.94584596 | E12: 9680 | F12: 9970 | G12: =IF(E12=0,"",E12/F12) -> 0.97091274 | H12: 20050 | I12: 20455 | J12: =IF(H12=0,"",H12/I12) -> 0.98020044 | K12: 17191 | L12: 18495 | M12: =IF(K12=0,"",K12/L12) -> 0.92949446 | N12: 43719 | O12: 49210 | P12: =IF(N12=0,"",N12/O12) -> 0.88841699 | Q12: 38244 | R12: 39825 | S12: =IF(Q12=0,"",Q12/R12) -> 0.96030132 | T12: 24012 | U12: 23695 | V12: =IF(T12=0,"",T12/U12) -> 1.0133783
A13: Lakes | B13: 110098 | C13: 118790 | D13: =IF(B13=0,"",B13/C13) -> 0.92682886 | E13: 7384 | F13: 7610 | G13: =IF(E13=0,"",E13/F13) -> 0.97030223 | H13: 15700 | I13: 16485 | J13: =IF(H13=0,"",H13/I13) -> 0.95238095 | K13: 12384 | L13: 13850 | M13: =IF(K13=0,"",K13/L13) -> 0.89415162 | N13: 26768 | O13: 29820 | P13: =IF(N13=0,"",N13/O13) -> 0.89765258 | Q13: 27899 | R13: 29845 | S13: =IF(Q13=0,"",Q13/R13) -> 0.93479645 | T13: 19963 | U13: 21180 | V13: =IF(T13=0,"",T13/U13) -> 0.94254013
A14: MidCentral | B14: 177469 | C14: 191345 | D14: =IF(B14=0,"",B14/C14) -> 0.92748177 | E14: 10954 | F14: 11305 | G14: =IF(E14=0,"",E14/F14) -> 0.96895179 | H14: 23756 | I14: 24625 | J14: =IF(H14=0,"",H14/I14) -> 0.96471066 | K14: 21216 | L14: 25620 | M14: =IF(K14=0,"",K14/L14) -> 0.82810304 | N14: 42175 | O14: 47140 | P14: =IF(N14=0,"",N14/O14) -> 0.89467543 | Q14: 43732 | R14: 45950 | S14: =IF(Q14=0,"",Q14/R14) -> 0.95173014 | T14: 35636 | U14: 36705 | V14: =IF(T14=0,"",T14/U14) -> 0.9708759
A15: Nelson Marlborough | B15: 156414 | C15: 166120 | D15: =IF(B15=0,"",B15/C15) -> 0.94157236 | E15: 7455 | F15: 7825 | G15: =IF(E15=0,"",E15/F15) -> 0.95271565 | H15: 18656 | I15: 18770 | J15: =IF(H15=0,"",H15/I15) -> 0.99392648 | K15: 15458 | L15: 17040 | M15: =IF(K15=0,"",K15/L15) -> 0.90715962 | N15: 33803 | O15: 37730 | P15: =IF(N15=0,"",N15/O15) -> 0.89591837 | Q15: 43867 | R15: 46020 | S15: =IF(Q15=0,"",Q15/R15) -> 0.95321599 | T15: 37175 | U15: 38735 | V15: =IF(T15=0,"",T15/U15) -> 0.95972635
A16: Northland | B16: 192324 | C16: 204675 | D16: =IF(B16=0,"",B16/C16) -> 0.93965555 | E16: 11691 | F16: 11945 | G16: =IF(E16=0,"",E16/F16) -> 0.97873587 | H16: 26252 | I16: 27995 | J16: =IF(H16=0,"",H16/I16) -> 0.93773888 | K16: 19905 | L16: 21360 | M16: =IF(K16=0,"",K16/L16) -> 0.93188202 | N16: 41299 | O16: 45490 | P16: =IF(N16=0,"",N16/O16) -> 0.90786986 | Q16: 50137 | R16: 53700 | S16: =IF(Q16=0,"",Q16/R16) -> 0.93364991 | T16: 43040 | U16: 44185 | V16: =IF(T16=0,"",T16/U16) -> 0.97408623
A17: South Canterbury | B17: 61070 | C17: 62507.5 | D17: =IF(B17=0,"",B17/C17) -> 0.97700276 | E17: 3118 | F17: 3200 | G17: =IF(E17=0,"",E17/F17) -> 0.974375 | H17: 7470 | I17: 7262.5 | J17: =IF(H17=0,"",H17/I17) -> 1.0285714 | K17: 6134 | L17: 6177.5 | M17: =IF(K17=0,"",K17/L17) -> 0.99295832 | N17: 14082 | O17: 14952.5 | P17: =IF(N17=0,"",N17/O17) -> 0.94178231 | Q17: 16295 | R17: 16510 | S17: =IF(Q17=0,"",Q17/R17) -> 0.98697759 | T17: 13971 | U17: 14405 | V17: =IF(T17=0,"",T17/U17) -> 0.96987157
... A25: Whanganui | B25: 65976 | C25: 69990 | D25: =IF(B25=0,"",B25/C25) -> 0.94264895 | E25: 4138 | F25: 4355 | G25: =IF(E25=0,"",E25/F25) -> 0.95017222 | H25: 8579 | I25: 9175 | J25: =IF(H25=0,"",H25/I25) -> 0.93504087 | K25: 7208 | L25: 7615 | M25: =IF(K25=0,"",K25/L25) -> 0.94655286 | N25: 14611 | O25: 16055 | P25: =IF(N25=0,"",N25/O25) -> 0.91005917 | Q25: 16896 | R25: 17875 | S25: =IF(Q25=0,"",Q25/R25) -> 0.94523077 | T25: 14544 | U25: 14915 | V25: =IF(T25=0,"",T25/U25) -> 0.97512571
A26: National | B26: 4943113 | C26: 5151947.5 | D26: =IF(B26=0,"",B26/C26) -> 0.95946494 | E26: =SUM(E6:E25) -> 293133 | F26: =SUM(F6:F25) -> 297710 | G26: =IF(E26=0,"",E26/F26) -> 0.98462598 | H26: =SUM(H6:H25) -> 642422 | I26: =SUM(I6:I25) -> 653377.5 | J26: =IF(H26=0,"",H26/I26) -> 0.98323251 | K26: =SUM(K6:K25) -> 589973 | L26: =SUM(L6:L25) -> 644375 | M26: =IF(K26=0,"",K26/L26) -> 0.91557401 | N26: =SUM(N6:N25) -> 1338058 | O26: =SUM(O6:O25) -> 1413047.5 | P26: =IF(N26=0,"",N26/O26) -> 0.94693066 | Q26: =SUM(Q6:Q25) -> 1223681 | R26: =SUM(R6:R25) -> 1271017.5 | S26: =IF(Q26=0,"",Q26/R26) -> 0.962757 | T26: =SUM(T6:T25) -> 855846 | U26: =SUM(U6:U25) -> 872420 | V26: =IF(T26=0,"",T26/U26) -> 0.98100227
A28: Note: The estimated percentage of those who are enrolled in a PHO may exceed 100% as data is sourced from two different places (Ministry of Health & Stats NZ).
A29: Population is based on the December 2022 update of the projections provided by Stats NZ.

Sheet Deprivation
A1: =SUBSTITUTE(Ethnicity!A1,"Ethnicity","Deprivation") -> Access to Primary Care by Prioritised Deprivation (October 2023)
A2: This report shows the number and estimated percentage of the New Zealand population (based on Stats NZ population projections) who are enrolled in a PHO by deprivation.
B4: Total | E4: NZ Dep 1 - 2 | H4: NZ Dep 3 - 4 | K4: NZ Dep 5 - 6 | N4: NZ Dep 7 - 8 | Q4: NZ Dep 9 - 10 (Highly Deprived)
A5: District of Domicile | B5: Total Enrolled | C5: Total Population | D5: % | E5: Total Enrolled | F5: Total Population | G5: % | H5: Total Enrolled | I5: Total Population | J5: % | K5: Total Enrolled | L5: Total Population | M5: % | N5: Total Enrolled | O5: Total Population | P5: % | Q5: Total Enrolled | R5: Total Population | S5: %
A6: Auckland | B6: =Ethnicity!B6 -> 473187 | C6: 471980 | D6: =IF(B6=0,"",B6/C6) -> 1.0025573 | E6: 88411 | F6: 87016.607 | G6: =IF(E6=0,"",E6/F6) -> 1.0160244 | H6: 100887 | I6: 100411.91 | J6: =IF(H6=0,"",H6/I6) -> 1.0047314 | K6: 112395 | L6: 111741.11 | M6: =IF(K6=0,"",K6/L6) -> 1.0058518 | N6: 84677 | O6: 87748.857 | P6: =IF(N6=0,"",N6/O6) -> 0.96499262 | Q6: 82036 | R6: 85061.517 | S6: =IF(Q6=0,"",Q6/R6) -> 0.96443143
A7: Bay of Plenty | B7: =Ethnicity!B7 -> 259213 | C7: 279330 | D7: =IF(B7=0,"",B7/C7) -> 0.92798124 | E7: 48347 | F7: 45266.422 | G7: =IF(E7=0,"",E7/F7) -> 1.0680544 | H7: 50393 | I7: 52077.44 | J7: =IF(H7=0,"",H7/I7) -> 0.9676551 | K7: 53804 | L7: 58448.658 | M7: =IF(K7=0,"",K7/L7) -> 0.92053439 | N7: 53605 | O7: 62096.211 | P7: =IF(N7=0,"",N7/O7) -> 0.86325718 | Q7: 50096 | R7: 61441.27 | S7: =IF(Q7=0,"",Q7/R7) -> 0.81534774
A8: Canterbury | B8: =Ethnicity!B8 -> 584360 | C8: 597385 | D8: =IF(B8=0,"",B8/C8) -> 0.97819664 | E8: 182979 | F8: 166636.48 | G8: =IF(E8=0,"",E8/F8) -> 1.0980729 | H8: 125307 | I8: 131570.06 | J8: =IF(H8=0,"",H8/I8) -> 0.95239752 | K8: 108805 | L8: 116807.63 | M8: =IF(K8=0,"",K8/L8) -> 0.93148881 | N8: 103136 | O8: 115299.94 | P8: =IF(N8=0,"",N8/O8) -> 0.89450174 | Q8: 58381 | R8: 67070.886 | S8: =IF(Q8=0,"",Q8/R8) -> 0.87043728
A9: Capital and Coast | B9: =Ethnicity!B9 -> 305784 | C9: 322150 | D9: =IF(B9=0,"",B9/C9) -> 0.94919758 | E9: 103726 | F9: 102371 | G9: =IF(E9=0,"",E9/F9) -> 1.0132362 | H9: 72083 | I9: 76339.166 | J9: =IF(H9=0,"",H9/I9) -> 0.94424663 | K9: 56828 | L9: 63409.101 | M9: =IF(K9=0,"",K9/L9) -> 0.89621204 | N9: 37054 | O9: 41760.861 | P9: =IF(N9=0,"",N9/O9) -> 0.88729013 | Q9: 33230 | R9: 38269.876 | S9: =IF(Q9=0,"",Q9/R9) -> 0.86830696
A10: Counties Manukau | B10: =Ethnicity!B10 -> 589977 | C10: 610695 | D10: =IF(B10=0,"",B10/C10) -> 0.96607472 | E10: 85784 | F10: 85595.225 | G10: =IF(E10=0,"",E10/F10) -> 1.0022054 | H10: 100483 | I10: 99601.322 | J10: =IF(H10=0,"",H10/I10) -> 1.0088521 | K10: 95777 | L10: 93157.327 | M10: =IF(K10=0,"",K10/L10) -> 1.028121 | N10: 100684 | O10: 103068.59 | P10: =IF(N10=0,"",N10/O10) -> 0.97686402 | Q10: 197404 | R10: 229272.53 | S10: =IF(Q10=0,"",Q10/R10) -> 0.86100152
A11: Hawke's Bay | B11: =Ethnicity!B11 -> 169335 | C11: 183360 | D11: =IF(B11=0,"",B11/C11) -> 0.92351113 | E11: 28418 | F11: 27914.567 | G11: =IF(E11=0,"",E11/F11) -> 1.0180348 | H11: 26167 | I11: 27294.017 | J11: =IF(H11=0,"",H11/I11) -> 0.95870829 | K11: 28954 | L11: 32008.971 | M11: =IF(K11=0,"",K11/L11) -> 0.90455892 | N11: 38017 | O11: 42330.094 | P11: =IF(N11=0,"",N11/O11) -> 0.89810809 | Q11: 45586 | R11: 53812.351 | S11: =IF(Q11=0,"",Q11/R11) -> 0.84712894
A12: Hutt Valley | B12: =Ethnicity!B12 -> 152896 | C12: 161650 | D12: =IF(B12=0,"",B12/C12) -> 0.94584596 | E12: 36742 | F12: 38130.696 | G12: =IF(E12=0,"",E12/F12) -> 0.96358064 | H12: 23223 | I12: 24567.893 | J12: =IF(H12=0,"",H12/I12) -> 0.94525811 | K12: 27048 | L12: 28833.304 | M12: =IF(K12=0,"",K12/L12) -> 0.93808187 | N12: 34847 | O12: 36547.01 | P12: =IF(N12=0,"",N12/O12) -> 0.9534843 | Q12: 29876 | R12: 33571.097 | S12: =IF(Q12=0,"",Q12/R12) -> 0.88993219
A13: Lakes | B13: =Ethnicity!B13 -> 110098 | C13: 118790 | D13: =IF(B13=0,"",B13/C13) -> 0.92682886 | E13: 14750 | F13: 13959.175 | G13: =IF(E13=0,"",E13/F13) -> 1.0566527 | H13: 17239 | I13: 18043.661 | J13: =IF(H13=0,"",H13/I13) -> 0.95540478 | K13: 16614 | L13: 17847.882 | M13: =IF(K13=0,"",K13/L13) -> 0.93086674 | N13: 23904 | O13: 26615.637 | P13: =IF(N13=0,"",N13/O13) -> 0.89811864 | Q13: 36225 | R13: 42323.644 | S13: =IF(Q13=0,"",Q13/R13) -> 0.85590456
A14: MidCentral | B14: =Ethnicity!B14 -> 177469 | C14: 191345 | D14: =IF(B14=0,"",B14/C14) -> 0.92748177 | E14: 23921 | F14: 22872.593 | G14: =IF(E14=0,"",E14/F14) -> 1.0458368 | H14: 28605 | I14: 29874.823 | J14: =IF(H14=0,"",H14/I14) -> 0.9574952 | K14: 32998 | L14: 36889.213 | M14: =IF(K14=0,"",K14/L14) -> 0.89451624 | N14: 44956 | O14: 49747.153 | P14: =IF(N14=0,"",N14/O14) -> 0.90368991 | Q14: 45028 | R14: 51961.219 | S14: =IF(Q14=0,"",Q14/R14) -> 0.86656936
A15: Nelson Marlborough | B15: =Ethnicity!B15 -> 156414 | C15: 166120 | D15: =IF(B15=0,"",B15/C15) -> 0.94157236 | E15: 32231 | F15: 32020.805 | G15: =IF(E15=0,"",E15/F15) -> 1.0065643 | H15: 36092 | I15: 37565.632 | J15: =IF(H15=0,"",H15/I15) -> 0.96077179 | K15: 39272 | L15: 42417.096 | M15: =IF(K15=0,"",K15/L15) -> 0.92585311 | N15: 32462 | O15: 37315.329 | P15: =IF(N15=0,"",N15/O15) -> 0.86993739 | Q15: 14978 | R15: 16801.137 | S15: =IF(Q15=0,"",Q15/R15) -> 0.89148726
A16: Northland | B16: =Ethnicity!B16 -> 192324 | C16: 204675 | D16: =IF(B16=0,"",B16/C16) -> 0.93965555 | E16: 14743 | F16: 14320.842 | G16: =IF(E16=0,"",E16/F16) -> 1.0294786 | H16: 22735 | I16: 22286.166 | J16: =IF(H16=0,"",H16/I16) -> 1.0201396 | K16: 33693 | L16: 34665.716 | M16: =IF(K16=0,"",K16/L16) -> 0.97194012 | N16: 41131 | O16: 44480.832 | P16: =IF(N16=0,"",N16/O16) -> 0.92469043 | Q16: 77062 | R16: 88921.445 | S16: =IF(Q16=0,"",Q16/R16) -> 0.8666301
A17: South Canterbury | B17: =Ethnicity!B17 -> 61070 | C17: 62507.5 | D17: =IF(B17=0,"",B17/C17) -> 0.97700276 | E17: 8811 | F17: 8309.8904 | G17: =IF(E17=0,"",E17/F17) -> 1.0603028 | H17: 15259 | I17: 15389.784 | J17: =IF(H17=0,"",H17/I17) -> 0.9915019 | K17: 16398 | L17: 17120.146 | M17: =IF(K17=0,"",K17/L17) -> 0.95781894 | N17: 12925 | O17: 13805.667 | P17: =IF(N17=0,"",N17/O17) -> 0.93620976 | Q17: 7505 | R17: 7882.0131 | S17: =IF(Q17=0,"",Q17/R17) -> 0.95216792
... A25: Whanganui | B25: =Ethnicity!B25 -> 65976 | C25: 69990 | D25: =IF(B25=0,"",B25/C25) -> 0.94264895 | E25: 4117 | F25: 3675.012 | G25: =IF(E25=0,"",E25/F25) -> 1.1202685 | H25: 6372 | I25: 6468.0469 | J25: =IF(H25=0,"",H25/I25) -> 0.98515056 | K25: 13275 | L25: 13621.788 | M25: =IF(K25=0,"",K25/L25) -> 0.97454167 | N25: 15230 | O25: 16965.908 | P25: =IF(N25=0,"",N25/O25) -> 0.89768256 | Q25: 26277 | R25: 29259.245 | S25: =IF(Q25=0,"",Q25/R25) -> 0.89807513
A26: National | B26: =Ethnicity!B26 -> 4943113 | C26: =SUM(C6:C25) -> 5151947.5 | D26: =IF(B26=0,"",B26/C26) -> 0.95946494 | E26: =SUM(E6:E25) -> 1009981 | F26: =SUM(F6:F25) -> 969383.14 | G26: =IF(E26=0,"",E26/F26) -> 1.0418801 | H26: =SUM(H6:H25) -> 967084 | I26: =SUM(I6:I25) -> 991263.75 | J26: =IF(H26=0,"",H26/I26) -> 0.97560715 | K26: =SUM(K6:K25) -> 959678 | L26: =SUM(L6:L25) -> 1014629.7 | M26: =IF(K26=0,"",K26/L26) -> 0.94584066 | N26: =SUM(N6:N25) -> 967531 | O26: =SUM(O6:O25) -> 1054723.9 | P26: =IF(N26=0,"",N26/O26) -> 0.9173311 | Q26: =SUM(Q6:Q25) -> 977489 | R26: =SUM(R6:R25) -> 1121947.1 | S26: =IF(Q26=0,"",Q26/R26) -> 0.87124341
A28: Note: The estimated percentage of those who are enrolled in a PHO may exceed 100% as data is sourced from two different places (Ministry of Health & Stats NZ).
A29: Population is based on the December 2022 update of the projections provided by Stats NZ.
A30: Total enrolment numbers include enrolees with unknown deprivation. Counts of those with unknown deprivation are not displayed separately.
