Workbook

Sheet Ethnicity
A1: Access to Primary Care by Ethnicity (January 2022)
A2: This report shows the number and estimated percentage of the New Zealand population (based on Stats NZ population projections) who are enrolled in a PHO by ethnicity.
B4: Total | E4: Maori | H4: Pacific | K4: Other
A5: DHB of Domicile | B5: Total Enrolled | C5: Total Population | D5: % | E5: Total Enrolled | F5: Total Population | G5: % | H5: Total Enrolled | I5: Total Population | J5: % | K5: Total Enrolled | L5: Total Population | M5: %
A6: Auckland | B6: =E6+H6+K6 -> 462532 | C6: =F6+I6+L6 -> 498110 | D6: =IF(B6=0,"",B6/C6) -> 0.92857401 | E6: 33971 | F6: 41720 | G6: =IF(E6=0,"",E6/F6) -> 0.81426174 | H6: 54627 | I6: 56210 | J6: =IF(H6=0,"",H6/I6) -> 0.97183775 | K6: 373934 | L6: 400180 | M6: =IF(K6=0,"",K6/L6) -> 0.93441451
A7: Bay of Plenty | B7: =E7+H7+K7 -> 253190 | C7: =F7+I7+L7 -> 271200 | D7: =IF(B7=0,"",B7/C7) -> 0.93359145 | E7: 61166 | F7: 70860 | G7: =IF(E7=0,"",E7/F7) -> 0.86319503 | H7: 4585 | I7: 5110 | J7: =IF(H7=0,"",H7/I7) -> 0.89726027 | K7: 187439 | L7: 195230 | M7: =IF(K7=0,"",K7/L7) -> 0.96009322
A8: Canterbury | B8: =E8+H8+K8 -> 559481 | C8: =F8+I8+L8 -> 589020 | D8: =IF(B8=0,"",B8/C8) -> 0.9498506 | E8: 49699 | F8: 60390 | G8: =IF(E8=0,"",E8/F8) -> 0.82296738 | H8: 16286 | I8: 17950 | J8: =IF(H8=0,"",H8/I8) -> 0.90729805 | K8: 493496 | L8: 510680 | M8: =IF(K8=0,"",K8/L8) -> 0.96635075
A9: Capital and Coast | B9: =E9+H9+K9 -> 303055 | C9: =F9+I9+L9 -> 327480 | D9: =IF(B9=0,"",B9/C9) -> 0.92541529 | E9: 33465 | F9: 39520 | G9: =IF(E9=0,"",E9/F9) -> 0.84678644 | H9: 22486 | I9: 23740 | J9: =IF(H9=0,"",H9/I9) -> 0.94717776 | K9: 247104 | L9: 264220 | M9: =IF(K9=0,"",K9/L9) -> 0.93522065
A10: Counties Manukau | B10: =E10+H10+K10 -> 567773 | C10: =F10+I10+L10 -> 603950 | D10: =IF(B10=0,"",B10/C10) -> 0.94009935 | E10: 80893 | F10: 99990 | G10: =IF(E10=0,"",E10/F10) -> 0.8090109 | H10: 141885 | I10: 135790 | J10: =IF(H10=0,"",H10/I10) -> 1.0448855 | K10: 344995 | L10: 368170 | M10: =IF(K10=0,"",K10/L10) -> 0.93705354
A11: Hawkes Bay | B11: =E11+H11+K11 -> 168804 | C11: =F11+I11+L11 -> 182090 | D11: =IF(B11=0,"",B11/C11) -> 0.92703608 | E11: 43836 | F11: 51330 | G11: =IF(E11=0,"",E11/F11) -> 0.85400351 | H11: 6123 | I11: 8070 | J11: =IF(H11=0,"",H11/I11) -> 0.75873606 | K11: 118845 | L11: 122690 | M11: =IF(K11=0,"",K11/L11) -> 0.96866085
A12: Hutt Valley | B12: =E12+H12+K12 -> 150875 | C12: =F12+I12+L12 -> 160710 | D12: =IF(B12=0,"",B12/C12) -> 0.93880281 | E12: 24535 | F12: 29450 | G12: =IF(E12=0,"",E12/F12) -> 0.83310696 | H12: 11808 | I12: 12750 | J12: =IF(H12=0,"",H12/I12) -> 0.92611765 | K12: 114532 | L12: 118510 | M12: =IF(K12=0,"",K12/L12) -> 0.96643321
A13: Lakes | B13: =E13+H13+K13 -> 110354 | C13: =F13+I13+L13 -> 118690 | D13: =IF(B13=0,"",B13/C13) -> 0.92976662 | E13: 38584 | F13: 45410 | G13: =IF(E13=0,"",E13/F13) -> 0.84968069 | H13: 2765 | I13: 2990 | J13: =IF(H13=0,"",H13/I13) -> 0.92474916 | K13: 69005 | L13: 70290 | M13: =IF(K13=0,"",K13/L13) -> 0.98171859
A14: MidCentral | B14: =E14+H14+K14 -> 175377 | C14: =F14+I14+L14 -> 189540 | D14: =IF(B14=0,"",B14/C14) -> 0.92527699 | E14: 32416 | F14: 41490 | G14: =IF(E14=0,"",E14/F14) -> 0.7812967 | H14: 5497 | I14: 6380 | J14: =IF(H14=0,"",H14/I14) -> 0.86159875 | K14: 137464 | L14: 141670 | M14: =IF(K14=0,"",K14/L14) -> 0.97031129
A15: Nelson Marlborough | B15: =E15+H15+K15 -> 154312 | C15: =F15+I15+L15 -> 164720 | D15: =IF(B15=0,"",B15/C15) -> 0.93681399 | E15: 15158 | F15: 18880 | G15: =IF(E15=0,"",E15/F15) -> 0.80286017 | H15: 2567 | I15: 3520 | J15: =IF(H15=0,"",H15/I15) -> 0.72926136 | K15: 136587 | L15: 142320 | M15: =IF(K15=0,"",K15/L15) -> 0.95971754
A16: Northland | B16: =E16+H16+K16 -> 190025 | C16: =F16+I16+L16 -> 199320 | D16: =IF(B16=0,"",B16/C16) -> 0.95336645 | E16: 65731 | F16: 73570 | G16: =IF(E16=0,"",E16/F16) -> 0.89344842 | H16: 3802 | I16: 4260 | J16: =IF(H16=0,"",H16/I16) -> 0.89248826 | K16: 120492 | L16: 121490 | M16: =IF(K16=0,"",K16/L16) -> 0.99178533
A17: South Canterbury | B17: =E17+H17+K17 -> 60150 | C17: =F17+I17+L17 -> 62270 | D17: =IF(B17=0,"",B17/C17) -> 0.96595471 | E17: 4765 | F17: 5930 | G17: =IF(E17=0,"",E17/F17) -> 0.80354132 | H17: 1192 | I17: 1080 | J17: =IF(H17=0,"",H17/I17) -> 1.1037037 | K17: 54193 | L17: 55260 | M17: =IF(K17=0,"",K17/L17) -> 0.98069128
... A26: National | B26: =E26+H26+K26 -> 4817233 | C26: =F26+I26+L26 -> 5138225 | D26: =IF(B26=0,"",B26/C26) -> 0.93752862 | E26: 734065 | F26: 883870 | G26: =IF(E26=0,"",E26/F26) -> 0.83051241 | H26: 345304 | I26: 354800 | J26: =IF(H26=0,"",H26/I26) -> 0.97323563 | K26: 3737864 | L26: 3899555 | M26: =IF(K26=0,"",K26/L26) -> 0.95853604
A28: Note: The estimated percentage of those who are enrolled in a PHO may exceed 100% as data is sourced from two different places (Ministry of Health & Stats NZ).
A29: Population is based on projections provided by Stats NZ in Dec 2021.

Sheet Gender
A1: =SUBSTITUTE(Ethnicity!A1,"Ethnicity","Gender") -> Access to Primary Care by Gender (January 2022)
A2: This report shows the number and estimated percentage of the New Zealand population (based on Stats NZ population projections) who are enrolled in a PHO by gender.
B4: Total | E4: Female | H4: Male
A5: DHB of Domicile | B5: Total Enrolled | C5: Total Population | D5: % | E5: Total Enrolled | F5: Total Population | G5: % | H5: Total Enrolled | I5: Total Population | J5: %
A6: Auckland | B6: =E6+H6 -> 462532 | C6: =F6+I6 -> 498110 | D6: =IF(B6=0,"",B6/C6) -> 0.92857401 | E6: 238065 | F6: 250580 | G6: =IF(E6=0,"",E6/F6) -> 0.95005587 | H6: 224467 | I6: 247530 | J6: =IF(H6=0,"",H6/I6) -> 0.90682746
A7: Bay of Plenty | B7: =E7+H7 -> 253190 | C7: =F7+I7 -> 271200 | D7: =IF(B7=0,"",B7/C7) -> 0.93359145 | E7: 131911 | F7: 137860 | G7: =IF(E7=0,"",E7/F7) -> 0.95684753 | H7: 121279 | I7: 133340 | J7: =IF(H7=0,"",H7/I7) -> 0.90954702
A8: Canterbury | B8: =E8+H8 -> 559481 | C8: =F8+I8 -> 589020 | D8: =IF(B8=0,"",B8/C8) -> 0.9498506 | E8: 286970 | F8: 292830 | G8: =IF(E8=0,"",E8/F8) -> 0.97998839 | H8: 272511 | I8: 296190 | J8: =IF(H8=0,"",H8/I8) -> 0.92005469
A9: Capital and Coast | B9: =E9+H9 -> 303055 | C9: =F9+I9 -> 327480 | D9: =IF(B9=0,"",B9/C9) -> 0.92541529 | E9: 158216 | F9: 167850 | G9: =IF(E9=0,"",E9/F9) -> 0.94260352 | H9: 144839 | I9: 159630 | J9: =IF(H9=0,"",H9/I9) -> 0.90734198
A10: Counties Manukau | B10: =E10+H10 -> 567773 | C10: =F10+I10 -> 603950 | D10: =IF(B10=0,"",B10/C10) -> 0.94009935 | E10: 290177 | F10: 302040 | G10: =IF(E10=0,"",E10/F10) -> 0.96072375 | H10: 277596 | I10: 301910 | J10: =IF(H10=0,"",H10/I10) -> 0.91946607
A11: Hawkes Bay | B11: =E11+H11 -> 168804 | C11: =F11+I11 -> 182090 | D11: =IF(B11=0,"",B11/C11) -> 0.92703608 | E11: 88213 | F11: 92720 | G11: =IF(E11=0,"",E11/F11) -> 0.95139129 | H11: 80591 | I11: 89370 | J11: =IF(H11=0,"",H11/I11) -> 0.90176793
A12: Hutt Valley | B12: =E12+H12 -> 150875 | C12: =F12+I12 -> 160710 | D12: =IF(B12=0,"",B12/C12) -> 0.93880281 | E12: 77573 | F12: 80630 | G12: =IF(E12=0,"",E12/F12) -> 0.96208607 | H12: 73302 | I12: 80080 | J12: =IF(H12=0,"",H12/I12) -> 0.91535964
A13: Lakes | B13: =E13+H13 -> 110354 | C13: =F13+I13 -> 118690 | D13: =IF(B13=0,"",B13/C13) -> 0.92976662 | E13: 56944 | F13: 59880 | G13: =IF(E13=0,"",E13/F13) -> 0.9509686 | H13: 53410 | I13: 58810 | J13: =IF(H13=0,"",H13/I13) -> 0.90817888
A14: MidCentral | B14: =E14+H14 -> 175377 | C14: =F14+I14 -> 189540 | D14: =IF(B14=0,"",B14/C14) -> 0.92527699 | E14: 91690 | F14: 96120 | G14: =IF(E14=0,"",E14/F14) -> 0.95391178 | H14: 83687 | I14: 93420 | J14: =IF(H14=0,"",H14/I14) -> 0.8958146
A15: Nelson Marlborough | B15: =E15+H15 -> 154312 | C15: =F15+I15 -> 164720 | D15: =IF(B15=0,"",B15/C15) -> 0.93681399 | E15: 79111 | F15: 82780 | G15: =IF(E15=0,"",E15/F15) -> 0.9556777 | H15: 75201 | I15: 81940 | J15: =IF(H15=0,"",H15/I15) -> 0.9177569
A16: Northland | B16: =E16+H16 -> 190025 | C16: =F16+I16 -> 199320 | D16: =IF(B16=0,"",B16/C16) -> 0.95336645 | E16: 97362 | F16: 99950 | G16: =IF(E16=0,"",E16/F16) -> 0.97410705 | H16: 92663 | I16: 99370 | J16: =IF(H16=0,"",H16/I16) -> 0.93250478
A17: South Canterbury | B17: =E17+H17 -> 60150 | C17: =F17+I17 -> 62270 | D17: =IF(B17=0,"",B17/C17) -> 0.96595471 | E17: 30404 | F17: 31080 | G17: =IF(E17=0,"",E17/F17) -> 0.97824968 | H17: 29746 | I17: 31190 | J17: =IF(H17=0,"",H17/I17) -> 0.95370311
... A26: National | B26: =E26+H26 -> 4817233 | C26: =F26+I26 -> 5138225 | D26: =IF(B26=0,"",B26/C26) -> 0.93752862 | E26: 2481632 | F26: 2586870 | G26: =IF(E26=0,"",E26/F26) -> 0.9593184 | H26: 2335601 | I26: 2551355 | J26: =IF(H26=0,"",H26/I26) -> 0.91543552
A28: Note: The estimated percentage of those who are enrolled in a PHO may exceed 100% as data is sourced from two different places (Ministry of Health & Stats NZ).
A29: =Ethnicity!A29 -> Population is based on projections provided by Stats NZ in Dec 2021.

Sheet Age
A1: =SUBSTITUTE(Ethnicity!A1,"Ethnicity","Age Group") -> Access to Primary Care by Age Group (January 2022)
A2: This report shows the number and estimated percentage of the New Zealand population (based on Stats NZ population projections) who are enrolled in a PHO by age group.
B4: Total | E4: 0 - 4 Year Olds | H4: 5 - 14 Year Olds | K4: 15 - 24 Year Olds | N4: 25 - 44 Year Olds | Q4: 45 - 64 Year Olds | T4: 65+ Year Olds
A5: DHB of Domicile | B5: Total Enrolled | C5: Total Population | D5: % | E5: Total Enrolled | F5: Total Population | G5: % | H5: Total Enrolled | I5: Total Population | J5: % | K5: Total Enrolled | L5: Total Population | M5: % | N5: Total Enrolled | O5: Total Population | P5: % | Q5: Total Enrolled | R5: Total Population | S5: % | T5: Total Enrolled | U5: Total Population | V5: %
A6: Auckland | B6: =E6+H6+K6+N6+Q6+T6 -> 462532 | C6: =F6+I6+L6+O6+R6+U6 -> 498110 | D6: =IF(B6=0,"",B6/C6) -> 0.92857401 | E6: 24268 | F6: 22750 | G6: =IF(E6=0,"",E6/F6) -> 1.0667253 | H6: 53919 | I6: 52160 | J6: =IF(H6=0,"",H6/I6) -> 1.0337232 | K6: 56489 | L6: 72990 | M6: =IF(K6=0,"",K6/L6) -> 0.77392794 | N6: 150582 | O6: 175960 | P6: =IF(N6=0,"",N6/O6) -> 0.85577404 | Q6: 113338 | R6: 112440 | S6: =IF(Q6=0,"",Q6/R6) -> 1.0079865 | T6: 63936 | U6: 61810 | V6: =IF(T6=0,"",T6/U6) -> 1.0343957
A7: Bay of Plenty | B7: =E7+H7+K7+N7+Q7+T7 -> 253190 | C7: =F7+I7+L7+O7+R7+U7 -> 271200 | D7: =IF(B7=0,"",B7/C7) -> 0.93359145 | E7: 16148 | F7: 17160 | G7: =IF(E7=0,"",E7/F7) -> 0.94102564 | H7: 34647 | I7: 36640 | J7: =IF(H7=0,"",H7/I7) -> 0.9456059 | K7: 27298 | L7: 28150 | M7: =IF(K7=0,"",K7/L7) -> 0.96973357 | N7: 58935 | O7: 64140 | P7: =IF(N7=0,"",N7/O7) -> 0.91884939 | Q7: 63326 | R7: 69390 | S7: =IF(Q7=0,"",Q7/R7) -> 0.91260989 | T7: 52836 | U7: 55720 | V7: =IF(T7=0,"",T7/U7) -> 0.94824121
A8: Canterbury | B8: =E8+H8+K8+N8+Q8+T8 -> 559481 | C8: =F8+I8+L8+O8+R8+U8 -> 589020 | D8: =IF(B8=0,"",B8/C8) -> 0.9498506 | E8: 32850 | F8: 33260 | G8: =IF(E8=0,"",E8/F8) -> 0.98767288 | H8: 69375 | I8: 70290 | J8: =IF(H8=0,"",H8/I8) -> 0.9869825 | K8: 67663 | L8: 75650 | M8: =IF(K8=0,"",K8/L8) -> 0.89442168 | N8: 149413 | O8: 164530 | P8: =IF(N8=0,"",N8/O8) -> 0.9081201 | Q8: 143789 | R8: 150260 | S8: =IF(Q8=0,"",Q8/R8) -> 0.95693465 | T8: 96391 | U8: 95030 | V8: =IF(T8=0,"",T8/U8) -> 1.0143218
A9: Capital and Coast | B9: =E9+H9+K9+N9+Q9+T9 -> 303055 | C9: =F9+I9+L9+O9+R9+U9 -> 327480 | D9: =IF(B9=0,"",B9/C9) -> 0.92541529 | E9: 15428 | F9: 16520 | G9: =IF(E9=0,"",E9/F9) -> 0.93389831 | H9: 36439 | I9: 37730 | J9: =IF(H9=0,"",H9/I9) -> 0.9657832 | K9: 41132 | L9: 49210 | M9: =IF(K9=0,"",K9/L9) -> 0.83584637 | N9: 88933 | O9: 97220 | P9: =IF(N9=0,"",N9/O9) -> 0.91476034 | Q9: 77043 | R9: 81080 | S9: =IF(Q9=0,"",Q9/R9) -> 0.95020967 | T9: 44080 | U9: 45720 | V9: =IF(T9=0,"",T9/U9) -> 0.96412948
A10: Counties Manukau | B10: =E10+H10+K10+N10+Q10+T10 -> 567773 | C10: =F10+I10+L10+O10+R10+U10 -> 603950 | D10: =IF(B10=0,"",B10/C10) -> 0.94009935 | E10: 41178 | F10: 42010 | G10: =IF(E10=0,"",E10/F10) -> 0.98019519 | H10: 86449 | I10: 90550 | J10: =IF(H10=0,"",H10/I10) -> 0.9547101 | K10: 74220 | L10: 81980 | M10: =IF(K10=0,"",K10/L10) -> 0.90534277 | N10: 163840 | O10: 176810 | P10: =IF(N10=0,"",N10/O10) -> 0.92664442 | Q10: 131386 | R10: 140650 | S10: =IF(Q10=0,"",Q10/R10) -> 0.93413438 | T10: 70700 | U10: 71950 | V10: =IF(T10=0,"",T10/U10) -> 0.98262682
A11: Hawkes Bay | B11: =E11+H11+K11+N11+Q11+T11 -> 168804 | C11: =F11+I11+L11+O11+R11+U11 -> 182090 | D11: =IF(B11=0,"",B11/C11) -> 0.92703608 | E11: 10429 | F11: 11200 | G11: =IF(E11=0,"",E11/F11) -> 0.93116071 | H11: 23965 | I11: 25570 | J11: =IF(H11=0,"",H11/I11) -> 0.93723113 | K11: 19378 | L11: 20350 | M11: =IF(K11=0,"",K11/L11) -> 0.95223587 | N11: 37980 | O11: 42030 | P11: =IF(N11=0,"",N11/O11) -> 0.90364026 | Q11: 43715 | R11: 47740 | S11: =IF(Q11=0,"",Q11/R11) -> 0.91568915 | T11: 33337 | U11: 35200 | V11: =IF(T11=0,"",T11/U11) -> 0.94707386
A12: Hutt Valley | B12: =E12+H12+K12+N12+Q12+T12 -> 150875 | C12: =F12+I12+L12+O12+R12+U12 -> 160710 | D12: =IF(B12=0,"",B12/C12) -> 0.93880281 | E12: 9777 | F12: 10430 | G12: =IF(E12=0,"",E12/F12) -> 0.93739214 | H12: 20055 | I12: 20910 | J12: =IF(H12=0,"",H12/I12) -> 0.95911047 | K12: 17090 | L12: 18450 | M12: =IF(K12=0,"",K12/L12) -> 0.92628726 | N12: 42285 | O12: 45600 | P12: =IF(N12=0,"",N12/O12) -> 0.92730263 | Q12: 38476 | R12: 41250 | S12: =IF(Q12=0,"",Q12/R12) -> 0.93275152 | T12: 23192 | U12: 24070 | V12: =IF(T12=0,"",T12/U12) -> 0.96352306
A13: Lakes | B13: =E13+H13+K13+N13+Q13+T13 -> 110354 | C13: =F13+I13+L13+O13+R13+U13 -> 118690 | D13: =IF(B13=0,"",B13/C13) -> 0.92976662 | E13: 7464 | F13: 7790 | G13: =IF(E13=0,"",E13/F13) -> 0.95815148 | H13: 16109 | I13: 16970 | J13: =IF(H13=0,"",H13/I13) -> 0.94926341 | K13: 12586 | L13: 13760 | M13: =IF(K13=0,"",K13/L13) -> 0.91468023 | N13: 26753 | O13: 29640 | P13: =IF(N13=0,"",N13/O13) -> 0.90259784 | Q13: 28143 | R13: 30360 | S13: =IF(Q13=0,"",Q13/R13) -> 0.92697628 | T13: 19299 | U13: 20170 | V13: =IF(T13=0,"",T13/U13) -> 0.95681706
A14: MidCentral | B14: =E14+H14+K14+N14+Q14+T14 -> 175377 | C14: =F14+I14+L14+O14+R14+U14 -> 189540 | D14: =IF(B14=0,"",B14/C14) -> 0.92527699 | E14: 11012 | F14: 11690 | G14: =IF(E14=0,"",E14/F14) -> 0.94200171 | H14: 24068 | I14: 24960 | J14: =IF(H14=0,"",H14/I14) -> 0.96426282 | K14: 21294 | L14: 24830 | M14: =IF(K14=0,"",K14/L14) -> 0.85759162 | N14: 40880 | O14: 45340 | P14: =IF(N14=0,"",N14/O14) -> 0.90163211 | Q14: 43769 | R14: 47280 | S14: =IF(Q14=0,"",Q14/R14) -> 0.92574027 | T14: 34354 | U14: 35440 | V14: =IF(T14=0,"",T14/U14) -> 0.96935666
A15: Nelson Marlborough | B15: =E15+H15+K15+N15+Q15+T15 -> 154312 | C15: =F15+I15+L15+O15+R15+U15 -> 164720 | D15: =IF(B15=0,"",B15/C15) -> 0.93681399 | E15: 7647 | F15: 8270 | G15: =IF(E15=0,"",E15/F15) -> 0.92466747 | H15: 18849 | I15: 19620 | J15: =IF(H15=0,"",H15/I15) -> 0.96070336 | K15: 15397 | L15: 16080 | M15: =IF(K15=0,"",K15/L15) -> 0.95752488 | N15: 32917 | O15: 36160 | P15: =IF(N15=0,"",N15/O15) -> 0.91031527 | Q15: 44106 | R15: 47350 | S15: =IF(Q15=0,"",Q15/R15) -> 0.93148891 | T15: 35396 | U15: 37240 | V15: =IF(T15=0,"",T15/U15) -> 0.95048335
A16: Northland | B16: =E16+H16+K16+N16+Q16+T16 -> 190025 | C16: =F16+I16+L16+O16+R16+U16 -> 199320 | D16: =IF(B16=0,"",B16/C16) -> 0.95336645 | E16: 11744 | F16: 12530 | G16: =IF(E16=0,"",E16/F16) -> 0.93727055 | H16: 26661 | I16: 28120 | J16: =IF(H16=0,"",H16/I16) -> 0.94811522 | K16: 19746 | L16: 20200 | M16: =IF(K16=0,"",K16/L16) -> 0.97752475 | N16: 40280 | O16: 43060 | P16: =IF(N16=0,"",N16/O16) -> 0.93543892 | Q16: 50737 | R16: 53480 | S16: =IF(Q16=0,"",Q16/R16) -> 0.9487098 | T16: 40857 | U16: 41930 | V16: =IF(T16=0,"",T16/U16) -> 0.97440973
A17: South Canterbury | B17: =E17+H17+K17+N17+Q17+T17 -> 60150 | C17: =F17+I17+L17+O17+R17+U17 -> 62270 | D17: =IF(B17=0,"",B17/C17) -> 0.96595471 | E17: 3131 | F17: 3365 | G17: =IF(E17=0,"",E17/F17) -> 0.93046062 | H17: 7336 | I17: 7500 | J17: =IF(H17=0,"",H17/I17) -> 0.97813333 | K17: 6175 | L17: 6020 | M17: =IF(K17=0,"",K17/L17) -> 1.0257475 | N17: 13567 | O17: 14495 | P17: =IF(N17=0,"",N17/O17) -> 0.93597792 | Q17: 16285 | R17: 16880 | S17: =IF(Q17=0,"",Q17/R17) -> 0.96475118 | T17: 13656 | U17: 14010 | V17: =IF(T17=0,"",T17/U17) -> 0.97473233
... A26: National | B26: =E26+H26+K26+N26+Q26+T26 -> 4817233 | C26: =F26+I26+L26+O26+R26+U26 -> 5138225 | D26: =IF(B26=0,"",B26/C26) -> 0.93752862 | E26: 293492 | F26: 303970 | G26: =IF(E26=0,"",E26/F26) -> 0.96552949 | H26: 642401 | I26: 663245 | J26: =IF(H26=0,"",H26/I26) -> 0.9685727 | K26: 572287 | L26: 646620 | M26: =IF(K26=0,"",K26/L26) -> 0.88504377 | N26: 1278462 | O26: 1408555 | P26: =IF(N26=0,"",N26/O26) -> 0.90764081 | Q26: 1214704 | R26: 1282040 | S26: =IF(Q26=0,"",Q26/R26) -> 0.94747746 | T26: 815887 | U26: 833795 | V26: =IF(T26=0,"",T26/U26) -> 0.9785223
A28: Note: The estimated percentage of those who are enrolled in a PHO may exceed 100% as data is sourced from two different places (Ministry of Health & Stats NZ).
A29: =Ethnicity!A29 -> Population is based on projections provided by Stats NZ in Dec 2021.

Sheet Deprivation
A1: =SUBSTITUTE(Ethnicity!A1,"Ethnicity","Deprivation") -> Access to Primary Care by Deprivation (January 2022)
A2: This report shows the number and estimated percentage of the New Zealand population (based on Stats NZ population projections) who are enrolled in a PHO by deprivation.
B4: Total | E4: NZ Dep 1 - 2 | H4: NZ Dep 3 - 4 | K4: NZ Dep 5 - 6 | N4: NZ Dep 7 - 8 | Q4: NZ Dep 9 - 10 (Highly Deprived)
A5: DHB of Domicile | B5: Total Enrolled | C5: Total Population | D5: % | E5: Total Enrolled | F5: Total Population | G5: % | H5: Total Enrolled | I5: Total Population | J5: % | K5: Total Enrolled | L5: Total Population | M5: % | N5: Total Enrolled | O5: Total Population | P5: % | Q5: Total Enrolled | R5: Total Population | S5: %
A6: Auckland | B6: =Ethnicity!B6 -> 462532 | C6: =F6+I6+L6+O6+R6 -> 498110 | D6: =IF(B6=0,"",B6/C6) -> 0.92857401 | E6: 104278 | F6: 112801.16 | G6: =IF(E6=0,"",E6/F6) -> 0.92444085 | H6: 99455 | I6: 110215.98 | J6: =IF(H6=0,"",H6/I6) -> 0.90236461 | K6: 87111 | L6: 95949.741 | M6: =IF(K6=0,"",K6/L6) -> 0.90788155 | N6: 79060 | O6: 87349.346 | P6: =IF(N6=0,"",N6/O6) -> 0.90510122 | Q6: 80604 | R6: 91793.772 | S6: =IF(Q6=0,"",Q6/R6) -> 0.87809879
A7: Bay of Plenty | B7: =Ethnicity!B7 -> 253190 | C7: =F7+I7+L7+O7+R7 -> 271200 | D7: =IF(B7=0,"",B7/C7) -> 0.93359145 | E7: 37391 | F7: 32922.993 | G7: =IF(E7=0,"",E7/F7) -> 1.1357109 | H7: 42818 | I7: 47137.069 | J7: =IF(H7=0,"",H7/I7) -> 0.90837213 | K7: 56465 | L7: 59848.774 | M7: =IF(K7=0,"",K7/L7) -> 0.94346126 | N7: 54396 | O7: 62711.416 | P7: =IF(N7=0,"",N7/O7) -> 0.86740188 | Q7: 54551 | R7: 68579.748 | S7: =IF(Q7=0,"",Q7/R7) -> 0.79543891
A8: Canterbury | B8: =Ethnicity!B8 -> 559481 | C8: =F8+I8+L8+O8+R8 -> 589020 | D8: =IF(B8=0,"",B8/C8) -> 0.9498506 | E8: 196235 | F8: 179584.68 | G8: =IF(E8=0,"",E8/F8) -> 1.0927157 | H8: 120375 | I8: 130849.06 | J8: =IF(H8=0,"",H8/I8) -> 0.91995312 | K8: 98122 | L8: 117415.33 | M8: =IF(K8=0,"",K8/L8) -> 0.83568305 | N8: 85084 | O8: 104670.43 | P8: =IF(N8=0,"",N8/O8) -> 0.8128752 | Q8: 46109 | R8: 56500.502 | S8: =IF(Q8=0,"",Q8/R8) -> 0.81608125
A9: Capital and Coast | B9: =Ethnicity!B9 -> 303055 | C9: =F9+I9+L9+O9+R9 -> 327480 | D9: =IF(B9=0,"",B9/C9) -> 0.92541529 | E9: 97868 | F9: 102757.02 | G9: =IF(E9=0,"",E9/F9) -> 0.95242157 | H9: 70365 | I9: 76848.003 | J9: =IF(H9=0,"",H9/I9) -> 0.91563863 | K9: 52029 | L9: 59019.051 | M9: =IF(K9=0,"",K9/L9) -> 0.8815628 | N9: 40199 | O9: 48083.461 | P9: =IF(N9=0,"",N9/O9) -> 0.8360255 | Q9: 35646 | R9: 40772.468 | S9: =IF(Q9=0,"",Q9/R9) -> 0.87426644
A10: Counties Manukau | B10: =Ethnicity!B10 -> 567773 | C10: =F10+I10+L10+O10+R10 -> 603950 | D10: =IF(B10=0,"",B10/C10) -> 0.94009935 | E10: 97025 | F10: 104479.9 | G10: =IF(E10=0,"",E10/F10) -> 0.9286475 | H10: 93577 | I10: 98796.593 | J10: =IF(H10=0,"",H10/I10) -> 0.94716829 | K10: 76927 | L10: 83617.568 | M10: =IF(K10=0,"",K10/L10) -> 0.9199861 | N10: 89888 | O10: 93926.694 | P10: =IF(N10=0,"",N10/O10) -> 0.95700163 | Q10: 193581 | R10: 223129.24 | S10: =IF(Q10=0,"",Q10/R10) -> 0.86757342
A11: Hawkes Bay | B11: =Ethnicity!B11 -> 168804 | C11: =F11+I11+L11+O11+R11 -> 182090 | D11: =IF(B11=0,"",B11/C11) -> 0.92703608 | E11: 26556 | F11: 26193.777 | G11: =IF(E11=0,"",E11/F11) -> 1.0138286 | H11: 23942 | I11: 25045.776 | J11: =IF(H11=0,"",H11/I11) -> 0.95592964 | K11: 31041 | L11: 35013.059 | M11: =IF(K11=0,"",K11/L11) -> 0.88655493 | N11: 38243 | O11: 43611.603 | P11: =IF(N11=0,"",N11/O11) -> 0.87689967 | Q11: 45051 | R11: 52225.786 | S11: =IF(Q11=0,"",Q11/R11) -> 0.86261986
A12: Hutt Valley | B12: =Ethnicity!B12 -> 150875 | C12: =F12+I12+L12+O12+R12 -> 160710 | D12: =IF(B12=0,"",B12/C12) -> 0.93880281 | E12: 33991 | F12: 35994.348 | G12: =IF(E12=0,"",E12/F12) -> 0.9443427 | H12: 27612 | I12: 28315.252 | J12: =IF(H12=0,"",H12/I12) -> 0.97516349 | K12: 27532 | L12: 30653.149 | M12: =IF(K12=0,"",K12/L12) -> 0.89817851 | N12: 30663 | O12: 33539.611 | P12: =IF(N12=0,"",N12/O12) -> 0.91423242 | Q12: 28789 | R12: 32207.639 | S12: =IF(Q12=0,"",Q12/R12) -> 0.89385627
A13: Lakes | B13: =Ethnicity!B13 -> 110354 | C13: =F13+I13+L13+O13+R13 -> 118690 | D13: =IF(B13=0,"",B13/C13) -> 0.92976662 | E13: 12714 | F13: 12559.435 | G13: =IF(E13=0,"",E13/F13) -> 1.0123067 | H13: 19645 | I13: 21162.242 | J13: =IF(H13=0,"",H13/I13) -> 0.92830429 | K13: 15658 | L13: 17896.179 | M13: =IF(K13=0,"",K13/L13) -> 0.87493536 | N13: 21804 | O13: 25114.515 | P13: =IF(N13=0,"",N13/O13) -> 0.86818318 | Q13: 35983 | R13: 41957.629 | S13: =IF(Q13=0,"",Q13/R13) -> 0.85760328
A14: MidCentral | B14: =Ethnicity!B14 -> 175377 | C14: =F14+I14+L14+O14+R14 -> 189540 | D14: =IF(B14=0,"",B14/C14) -> 0.92527699 | E14: 25034 | F14: 24706.66 | G14: =IF(E14=0,"",E14/F14) -> 1.0132491 | H14: 26777 | I14: 28353.626 | J14: =IF(H14=0,"",H14/I14) -> 0.94439421 | K14: 35823 | L14: 41124.612 | M14: =IF(K14=0,"",K14/L14) -> 0.8710842 | N14: 39380 | O14: 45393.39 | P14: =IF(N14=0,"",N14/O14) -> 0.86752719 | Q14: 43630 | R14: 49961.712 | S14: =IF(Q14=0,"",Q14/R14) -> 0.87326871
A15: Nelson Marlborough | B15: =Ethnicity!B15 -> 154312 | C15: =F15+I15+L15+O15+R15 -> 164720 | D15: =IF(B15=0,"",B15/C15) -> 0.93681399 | E15: 30170 | F15: 28967.925 | G15: =IF(E15=0,"",E15/F15) -> 1.0414968 | H15: 36354 | I15: 39681.712 | J15: =IF(H15=0,"",H15/I15) -> 0.9161399 | K15: 39747 | L15: 43619.697 | M15: =IF(K15=0,"",K15/L15) -> 0.91121679 | N15: 31831 | O15: 37444.886 | P15: =IF(N15=0,"",N15/O15) -> 0.85007604 | Q15: 12626 | R15: 15005.78 | S15: =IF(Q15=0,"",Q15/R15) -> 0.84140909
A16: Northland | B16: =Ethnicity!B16 -> 190025 | C16: =F16+I16+L16+O16+R16 -> 199320 | D16: =IF(B16=0,"",B16/C16) -> 0.95336645 | E16: 12868 | F16: 12496.618 | G16: =IF(E16=0,"",E16/F16) -> 1.0297186 | H16: 22967 | I16: 23105.564 | J16: =IF(H16=0,"",H16/I16) -> 0.99400301 | K16: 34378 | L16: 36516.303 | M16: =IF(K16=0,"",K16/L16) -> 0.94144252 | N16: 47362 | O16: 49963.228 | P16: =IF(N16=0,"",N16/O16) -> 0.94793715 | Q16: 66180 | R16: 77238.288 | S16: =IF(Q16=0,"",Q16/R16) -> 0.85682894
A17: South Canterbury | B17: =Ethnicity!B17 -> 60150 | C17: =F17+I17+L17+O17+R17 -> 62270 | D17: =IF(B17=0,"",B17/C17) -> 0.96595471 | E17: 11553 | F17: 10914.437 | G17: =IF(E17=0,"",E17/F17) -> 1.0585063 | H17: 14730 | I17: 14931.399 | J17: =IF(H17=0,"",H17/I17) -> 0.98651168 | K17: 15218 | L17: 16357.846 | M17: =IF(K17=0,"",K17/L17) -> 0.9303181 | N17: 12959 | O17: 14136.314 | P17: =IF(N17=0,"",N17/O17) -> 0.91671706 | Q17: 5244 | R17: 5930.0045 | S17: =IF(Q17=0,"",Q17/R17) -> 0.88431636
... A25: Whanganui | B25: =Ethnicity!B25 -> 65586 | C25: =F25+I25+L25+O25+R25 -> 69210 | D25: =IF(B25=0,"",B25/C25) -> 0.94763762 | E25: 5288 | F25: 5332.6172 | G25: =IF(E25=0,"",E25/F25) -> 0.99163315 | H25: 6424 | I25: 6557.6368 | J25: =IF(H25=0,"",H25/I25) -> 0.9796212 | K25: 12142 | L25: 13383.92 | M25: =IF(K25=0,"",K25/L25) -> 0.90720808 | N25: 16663 | O25: 18227.419 | P25: =IF(N25=0,"",N25/O25) -> 0.91417219 | Q25: 23731 | R25: 25708.407 | S25: =IF(Q25=0,"",Q25/R25) -> 0.92308325
A26: National | B26: =Ethnicity!B26 -> 4817233 | C26: =SUM(C6:C25) -> 5138225 | D26: =IF(B26=0,"",B26/C26) -> 0.93752862 | E26: 1039831 | F26: 1034181 | G26: =IF(E26=0,"",E26/F26) -> 1.0054633 | H26: 949680 | I26: 1022114.5 | J26: =IF(H26=0,"",H26/I26) -> 0.92913266 | K26: 909334 | L26: 1014277.6 | M26: =IF(K26=0,"",K26/L26) -> 0.89653366 | N26: 891071 | O26: 1016476.5 | P26: =IF(N26=0,"",N26/O26) -> 0.87662727 | Q26: 897436 | R26: 1051175.4 | S26: =IF(Q26=0,"",Q26/R26) -> 0.85374522
A28: Note: The estimated percentage of those who are enrolled in a PHO may exceed 100% as data is sourced from two different places (Ministry of Health & Stats NZ).
A29: =Ethnicity!A29 -> Population is based on projections provided by Stats NZ in Dec 2021.
A30: Total enrolment numbers include enrolees with unknown deprivation. Counts of those with unknown deprivation are not displayed separately.
